BEGIN:VCALENDAR
VERSION:2.0
PRODID:-//spbstu.ru//ical//RU
NAME:Расписание
X-WR-CALNAME:Расписание
TIMEZONE-ID:Europe/Moscow
X-WR-TIMEZONE:Europe/Moscow
BEGIN:VEVENT
UID:g4u7@192.168.245.71:3006
SEQUENCE:0
DTSTAMP:20260420T175439Z
DTSTART:20260424T130000Z
DTEND:20260424T144000Z
SUMMARY:Проектирование и моделирование центробежного компрессора
LOCATION:Мех. к. Комп. кл. КВХТ №37
END:VEVENT
BEGIN:VEVENT
UID:h5qm@192.168.245.71:3006
SEQUENCE:0
DTSTAMP:20260420T175439Z
DTSTART:20260424T150000Z
DTEND:20260424T164000Z
SUMMARY:Проектирование и моделирование центробежного компрессора
LOCATION:Мех. к. Комп. кл. КВХТ №37
END:VEVENT
END:VCALENDAR