BEGIN:VCALENDAR
VERSION:2.0
PRODID:-//spbstu.ru//ical//RU
NAME:Расписание
X-WR-CALNAME:Расписание
TIMEZONE-ID:Europe/Moscow
X-WR-TIMEZONE:Europe/Moscow
BEGIN:VEVENT
UID:n191@192.168.245.71:3006
SEQUENCE:0
DTSTAMP:20260424T080706Z
DTSTART:20251110T130000Z
DTEND:20251110T143000Z
SUMMARY:Русский язык
LOCATION:15 к. 420
END:VEVENT
BEGIN:VEVENT
UID:5w63@192.168.245.71:3006
SEQUENCE:0
DTSTAMP:20260424T080706Z
DTSTART:20251110T130000Z
DTEND:20251110T143000Z
SUMMARY:Русский язык
LOCATION:15 к. 420
END:VEVENT
BEGIN:VEVENT
UID:efb9@192.168.245.71:3006
SEQUENCE:0
DTSTAMP:20260424T080706Z
DTSTART:20251110T150000Z
DTEND:20251110T164000Z
SUMMARY:Русский язык
LOCATION:15 к. 420
END:VEVENT
BEGIN:VEVENT
UID:yk6h@192.168.245.71:3006
SEQUENCE:0
DTSTAMP:20260424T080706Z
DTSTART:20251111T150000Z
DTEND:20251111T171500Z
SUMMARY:Русский язык как иностранный. Язык специальности
LOCATION:15 к. 430
END:VEVENT
BEGIN:VEVENT
UID:bbga@192.168.245.71:3006
SEQUENCE:0
DTSTAMP:20260424T080706Z
DTSTART:20251112T130000Z
DTEND:20251112T143000Z
SUMMARY:Карьерная адаптивность: Русский язык как иностранный
LOCATION:15 к. 420
END:VEVENT
BEGIN:VEVENT
UID:5k0g@192.168.245.71:3006
SEQUENCE:0
DTSTAMP:20260424T080706Z
DTSTART:20251112T150000Z
DTEND:20251112T163000Z
SUMMARY:Карьерная адаптивность: Русский язык как иностранный
LOCATION:15 к. 420
END:VEVENT
BEGIN:VEVENT
UID:41as@192.168.245.71:3006
SEQUENCE:0
DTSTAMP:20260424T080706Z
DTSTART:20251114T070000Z
DTEND:20251114T083000Z
SUMMARY:Карьерная адаптивность: Русский язык как иностранный
LOCATION:15 к. 420
END:VEVENT
BEGIN:VEVENT
UID:k87f@192.168.245.71:3006
SEQUENCE:0
DTSTAMP:20260424T080706Z
DTSTART:20251114T090000Z
DTEND:20251114T103000Z
SUMMARY:Карьерная адаптивность: Русский язык как иностранный
LOCATION:15 к. 420
END:VEVENT
BEGIN:VEVENT
UID:5txd@192.168.245.71:3006
SEQUENCE:0
DTSTAMP:20260424T080706Z
DTSTART:20251114T130000Z
DTEND:20251114T151500Z
SUMMARY:Русский язык как иностранный
LOCATION:15 к. 420
END:VEVENT
END:VCALENDAR