BEGIN:VCALENDAR
VERSION:2.0
PRODID:-//spbstu.ru//ical//RU
NAME:Расписание
X-WR-CALNAME:Расписание
TIMEZONE-ID:Europe/Moscow
X-WR-TIMEZONE:Europe/Moscow
BEGIN:VEVENT
UID:s05b@192.168.245.71:3006
SEQUENCE:0
DTSTAMP:20260425T115416Z
DTSTART:20250922T130000Z
DTEND:20250922T143000Z
SUMMARY:Русский язык
LOCATION:15 к. 420
END:VEVENT
BEGIN:VEVENT
UID:bgqs@192.168.245.71:3006
SEQUENCE:0
DTSTAMP:20260425T115416Z
DTSTART:20250922T130000Z
DTEND:20250922T143000Z
SUMMARY:Русский язык
LOCATION:15 к. 420
END:VEVENT
BEGIN:VEVENT
UID:js6a@192.168.245.71:3006
SEQUENCE:0
DTSTAMP:20260425T115416Z
DTSTART:20250922T150000Z
DTEND:20250922T164000Z
SUMMARY:Русский язык
LOCATION:15 к. 420
END:VEVENT
BEGIN:VEVENT
UID:ded7@192.168.245.71:3006
SEQUENCE:0
DTSTAMP:20260425T115416Z
DTSTART:20250923T150000Z
DTEND:20250923T171500Z
SUMMARY:Русский язык как иностранный. Язык специальности
LOCATION:15 к. 430
END:VEVENT
BEGIN:VEVENT
UID:834i@192.168.245.71:3006
SEQUENCE:0
DTSTAMP:20260425T115416Z
DTSTART:20250924T130000Z
DTEND:20250924T143000Z
SUMMARY:Карьерная адаптивность: Русский язык как иностранный
LOCATION:15 к. 420
END:VEVENT
BEGIN:VEVENT
UID:o3yj@192.168.245.71:3006
SEQUENCE:0
DTSTAMP:20260425T115416Z
DTSTART:20250924T150000Z
DTEND:20250924T163000Z
SUMMARY:Карьерная адаптивность: Русский язык как иностранный
LOCATION:15 к. 420
END:VEVENT
BEGIN:VEVENT
UID:n3el@192.168.245.71:3006
SEQUENCE:0
DTSTAMP:20260425T115416Z
DTSTART:20250926T070000Z
DTEND:20250926T083000Z
SUMMARY:Карьерная адаптивность: Русский язык как иностранный
LOCATION:15 к. 420
END:VEVENT
BEGIN:VEVENT
UID:hyvt@192.168.245.71:3006
SEQUENCE:0
DTSTAMP:20260425T115416Z
DTSTART:20250926T090000Z
DTEND:20250926T103000Z
SUMMARY:Карьерная адаптивность: Русский язык как иностранный
LOCATION:15 к. 420
END:VEVENT
END:VCALENDAR