BEGIN:VCALENDAR
VERSION:2.0
PRODID:-//spbstu.ru//ical//RU
NAME:Расписание
X-WR-CALNAME:Расписание
TIMEZONE-ID:Europe/Moscow
X-WR-TIMEZONE:Europe/Moscow
BEGIN:VEVENT
UID:usq8@192.168.245.71:3006
SEQUENCE:0
DTSTAMP:20260422T194005Z
DTSTART:20251103T070000Z
DTEND:20251103T084000Z
SUMMARY:Проектирование турбомашин газоперекачивающих агрегатов
LOCATION:НИК А2.22
END:VEVENT
BEGIN:VEVENT
UID:ra4o@192.168.245.71:3006
SEQUENCE:0
DTSTAMP:20260422T194005Z
DTSTART:20251103T090000Z
DTEND:20251103T104000Z
SUMMARY:Проектирование турбомашин газоперекачивающих агрегатов
LOCATION:НИК А2.22
END:VEVENT
BEGIN:VEVENT
UID:qv98@192.168.245.71:3006
SEQUENCE:0
DTSTAMP:20260422T194005Z
DTSTART:20251103T110000Z
DTEND:20251103T124000Z
SUMMARY:Газотурбинные установки газоперекачивающих станций
LOCATION:Мех. к. ВЦ
END:VEVENT
END:VCALENDAR