BEGIN:VCALENDAR
VERSION:2.0
PRODID:-//spbstu.ru//ical//RU
NAME:Расписание
X-WR-CALNAME:Расписание
TIMEZONE-ID:Europe/Moscow
X-WR-TIMEZONE:Europe/Moscow
BEGIN:VEVENT
UID:ogh6@192.168.245.71:3006
SEQUENCE:0
DTSTAMP:20260422T211430Z
DTSTART:20251113T090000Z
DTEND:20251113T104000Z
SUMMARY:Проектирование паровых и газовых турбин
LOCATION:Мех. к. ВЦ
END:VEVENT
END:VCALENDAR