BEGIN:VCALENDAR
VERSION:2.0
PRODID:-//spbstu.ru//ical//RU
NAME:Расписание
X-WR-CALNAME:Расписание
TIMEZONE-ID:Europe/Moscow
X-WR-TIMEZONE:Europe/Moscow
BEGIN:VEVENT
UID:x0tz@192.168.245.71:3006
SEQUENCE:0
DTSTAMP:20260423T031437Z
DTSTART:20251106T070000Z
DTEND:20251106T084000Z
SUMMARY:Газотурбинные установки
LOCATION:Мех. к. ВЦ
END:VEVENT
BEGIN:VEVENT
UID:y8aj@192.168.245.71:3006
SEQUENCE:0
DTSTAMP:20260423T031437Z
DTSTART:20251106T090000Z
DTEND:20251106T104000Z
SUMMARY:Проектирование паровых и газовых турбин
LOCATION:Мех. к. ВЦ
END:VEVENT
END:VCALENDAR