BEGIN:VCALENDAR
VERSION:2.0
PRODID:-//spbstu.ru//ical//RU
NAME:Расписание
X-WR-CALNAME:Расписание
TIMEZONE-ID:Europe/Moscow
X-WR-TIMEZONE:Europe/Moscow
BEGIN:VEVENT
UID:pfvh@192.168.245.71:3006
SEQUENCE:0
DTSTAMP:20260421T024211Z
DTSTART:20260326T070000Z
DTEND:20260326T084000Z
SUMMARY:Проектирование\, расчет и конструирование паровых и газовых турбин
LOCATION:НИК А2.22
END:VEVENT
BEGIN:VEVENT
UID:7n6o@192.168.245.71:3006
SEQUENCE:0
DTSTAMP:20260421T024211Z
DTSTART:20260327T090000Z
DTEND:20260327T104000Z
SUMMARY:Инженерный практикум
LOCATION:Мех. к. Лаб.турбиностроения им. И.И. Кириллова
END:VEVENT
BEGIN:VEVENT
UID:144d@192.168.245.71:3006
SEQUENCE:0
DTSTAMP:20260421T024211Z
DTSTART:20260327T110000Z
DTEND:20260327T124000Z
SUMMARY:Проектирование\, расчет и конструирование паровых и газовых турбин
LOCATION:Мех. к. ВЦ
END:VEVENT
END:VCALENDAR