BEGIN:VCALENDAR
VERSION:2.0
PRODID:-//spbstu.ru//ical//RU
NAME:Расписание
X-WR-CALNAME:Расписание
TIMEZONE-ID:Europe/Moscow
X-WR-TIMEZONE:Europe/Moscow
BEGIN:VEVENT
UID:kpvv@192.168.245.71:3006
SEQUENCE:0
DTSTAMP:20260421T032259Z
DTSTART:20260413T050000Z
DTEND:20260413T064000Z
SUMMARY:Программирование
LOCATION:2 к. 104
END:VEVENT
BEGIN:VEVENT
UID:kp37@192.168.245.71:3006
SEQUENCE:0
DTSTAMP:20260421T032259Z
DTSTART:20260413T090000Z
DTEND:20260413T104000Z
SUMMARY:Информатика
LOCATION:2 к. 265
END:VEVENT
BEGIN:VEVENT
UID:en5q@192.168.245.71:3006
SEQUENCE:0
DTSTAMP:20260421T032259Z
DTSTART:20260413T110000Z
DTEND:20260413T124000Z
SUMMARY:Физические основы функциональной электроники
LOCATION:2 к. 265
END:VEVENT
BEGIN:VEVENT
UID:rmze@192.168.245.71:3006
SEQUENCE:0
DTSTAMP:20260421T032259Z
DTSTART:20260414T050000Z
DTEND:20260414T064000Z
SUMMARY:Программирование
LOCATION:2 к. 104
END:VEVENT
BEGIN:VEVENT
UID:uubb@192.168.245.71:3006
SEQUENCE:0
DTSTAMP:20260421T032259Z
DTSTART:20260414T070000Z
DTEND:20260414T084000Z
SUMMARY:Программирование
LOCATION:2 к. 104
END:VEVENT
BEGIN:VEVENT
UID:239x@192.168.245.71:3006
SEQUENCE:0
DTSTAMP:20260421T032259Z
DTSTART:20260415T050000Z
DTEND:20260415T064000Z
SUMMARY:Программирование
LOCATION:2 к. 104
END:VEVENT
BEGIN:VEVENT
UID:fxfe@192.168.245.71:3006
SEQUENCE:0
DTSTAMP:20260421T032259Z
DTSTART:20260415T070000Z
DTEND:20260415T084000Z
SUMMARY:Дополнительные главы вычислительной физики плазмы
LOCATION:2 к. 104
END:VEVENT
BEGIN:VEVENT
UID:2klq@192.168.245.71:3006
SEQUENCE:0
DTSTAMP:20260421T032259Z
DTSTART:20260415T090000Z
DTEND:20260415T104000Z
SUMMARY:Дополнительные главы вычислительной физики плазмы
LOCATION:2 к. 104
END:VEVENT
BEGIN:VEVENT
UID:krcl@192.168.245.71:3006
SEQUENCE:0
DTSTAMP:20260421T032259Z
DTSTART:20260416T050000Z
DTEND:20260416T064000Z
SUMMARY:Программирование
LOCATION:2 к. 104
END:VEVENT
BEGIN:VEVENT
UID:1vki@192.168.245.71:3006
SEQUENCE:0
DTSTAMP:20260421T032259Z
DTSTART:20260416T070000Z
DTEND:20260416T084000Z
SUMMARY:Программирование
LOCATION:2 к. 265
END:VEVENT
BEGIN:VEVENT
UID:mfhw@192.168.245.71:3006
SEQUENCE:0
DTSTAMP:20260421T032259Z
DTSTART:20260416T090000Z
DTEND:20260416T104000Z
SUMMARY:Физические основы функциональной электроники
LOCATION:2 к. 265
END:VEVENT
BEGIN:VEVENT
UID:88nl@192.168.245.71:3006
SEQUENCE:0
DTSTAMP:20260421T032259Z
DTSTART:20260416T130000Z
DTEND:20260416T144000Z
SUMMARY:Конструирование
LOCATION:2 к. 104
END:VEVENT
BEGIN:VEVENT
UID:t66x@192.168.245.71:3006
SEQUENCE:0
DTSTAMP:20260421T032259Z
DTSTART:20260416T150000Z
DTEND:20260416T155000Z
SUMMARY:Конструирование
LOCATION:2 к. 104
END:VEVENT
BEGIN:VEVENT
UID:a778@192.168.245.71:3006
SEQUENCE:0
DTSTAMP:20260421T032259Z
DTSTART:20260417T050000Z
DTEND:20260417T064000Z
SUMMARY:Физические основы функциональной электроники
LOCATION:2 к. 355
END:VEVENT
BEGIN:VEVENT
UID:fdpf@192.168.245.71:3006
SEQUENCE:0
DTSTAMP:20260421T032259Z
DTSTART:20260417T070000Z
DTEND:20260417T075000Z
SUMMARY:Физические основы функциональной электроники
LOCATION:2 к. 355
END:VEVENT
BEGIN:VEVENT
UID:v8zk@192.168.245.71:3006
SEQUENCE:0
DTSTAMP:20260421T032259Z
DTSTART:20260417T080000Z
DTEND:20260417T085000Z
SUMMARY:Физические основы функциональной электроники
LOCATION:2 к. 355
END:VEVENT
BEGIN:VEVENT
UID:um62@192.168.245.71:3006
SEQUENCE:0
DTSTAMP:20260421T032259Z
DTSTART:20260417T090000Z
DTEND:20260417T104000Z
SUMMARY:Физические основы функциональной электроники
LOCATION:2 к. 355
END:VEVENT
BEGIN:VEVENT
UID:7kz6@192.168.245.71:3006
SEQUENCE:0
DTSTAMP:20260421T032259Z
DTSTART:20260418T050000Z
DTEND:20260418T064000Z
SUMMARY:Физические основы функциональной электроники
LOCATION:2 к. 355
END:VEVENT
BEGIN:VEVENT
UID:uc8f@192.168.245.71:3006
SEQUENCE:0
DTSTAMP:20260421T032259Z
DTSTART:20260418T070000Z
DTEND:20260418T075000Z
SUMMARY:Физические основы функциональной электроники
LOCATION:2 к. 355
END:VEVENT
BEGIN:VEVENT
UID:s1ha@192.168.245.71:3006
SEQUENCE:0
DTSTAMP:20260421T032259Z
DTSTART:20260418T080000Z
DTEND:20260418T085000Z
SUMMARY:Физические основы функциональной электроники
LOCATION:2 к. 355
END:VEVENT
BEGIN:VEVENT
UID:ctlm@192.168.245.71:3006
SEQUENCE:0
DTSTAMP:20260421T032259Z
DTSTART:20260418T090000Z
DTEND:20260418T104000Z
SUMMARY:Физические основы функциональной электроники
LOCATION:2 к. 355
END:VEVENT
BEGIN:VEVENT
UID:iuin@192.168.245.71:3006
SEQUENCE:0
DTSTAMP:20260421T032259Z
DTSTART:20260418T110000Z
DTEND:20260418T124000Z
SUMMARY:Информатика
LOCATION:2 к. 104
END:VEVENT
BEGIN:VEVENT
UID:toka@192.168.245.71:3006
SEQUENCE:0
DTSTAMP:20260421T032259Z
DTSTART:20260418T130000Z
DTEND:20260418T144000Z
SUMMARY:Информатика
LOCATION:2 к. 104
END:VEVENT
BEGIN:VEVENT
UID:e54n@192.168.245.71:3006
SEQUENCE:0
DTSTAMP:20260421T032259Z
DTSTART:20260418T130000Z
DTEND:20260418T144000Z
SUMMARY:Физические основы функциональной электроники
LOCATION:2 к. 355
END:VEVENT
BEGIN:VEVENT
UID:jss6@192.168.245.71:3006
SEQUENCE:0
DTSTAMP:20260421T032259Z
DTSTART:20260418T150000Z
DTEND:20260418T155000Z
SUMMARY:Физические основы функциональной электроники
LOCATION:2 к. 355
END:VEVENT
END:VCALENDAR