BEGIN:VCALENDAR
VERSION:2.0
PRODID:-//spbstu.ru//ical//RU
NAME:Расписание
X-WR-CALNAME:Расписание
TIMEZONE-ID:Europe/Moscow
X-WR-TIMEZONE:Europe/Moscow
BEGIN:VEVENT
UID:u3ln@192.168.245.71:3006
SEQUENCE:0
DTSTAMP:20260424T075020Z
DTSTART:20251008T171500Z
DTEND:20251008T184500Z
SUMMARY:Управленческий учет
LOCATION:DL Дистанционно
END:VEVENT
END:VCALENDAR