BEGIN:VCALENDAR
VERSION:2.0
PRODID:-//spbstu.ru//ical//RU
NAME:Расписание
X-WR-CALNAME:Расписание
TIMEZONE-ID:Europe/Moscow
X-WR-TIMEZONE:Europe/Moscow
BEGIN:VEVENT
UID:kb10@192.168.245.71:3006
SEQUENCE:0
DTSTAMP:20260423T024042Z
DTSTART:20251110T130000Z
DTEND:20251110T144000Z
SUMMARY:Операционные системы
LOCATION:ГЗ 103
END:VEVENT
BEGIN:VEVENT
UID:6dk6@192.168.245.71:3006
SEQUENCE:0
DTSTAMP:20260423T024042Z
DTSTART:20251111T110000Z
DTEND:20251111T124000Z
SUMMARY:Анализ рисков информационной безопасности
LOCATION:ГЗ 165
END:VEVENT
BEGIN:VEVENT
UID:qsxx@192.168.245.71:3006
SEQUENCE:0
DTSTAMP:20260423T024042Z
DTSTART:20251111T130000Z
DTEND:20251111T144000Z
SUMMARY:Операционные системы
LOCATION:ГЗ 103
END:VEVENT
BEGIN:VEVENT
UID:9c09@192.168.245.71:3006
SEQUENCE:0
DTSTAMP:20260423T024042Z
DTSTART:20251112T070000Z
DTEND:20251112T084000Z
SUMMARY:Операционные системы
LOCATION:ГЗ 103
END:VEVENT
BEGIN:VEVENT
UID:pbz2@192.168.245.71:3006
SEQUENCE:0
DTSTAMP:20260423T024042Z
DTSTART:20251112T090000Z
DTEND:20251112T104000Z
SUMMARY:Анализ рисков информационной безопасности
LOCATION:ГЗ 170 Б
END:VEVENT
BEGIN:VEVENT
UID:b9qh@192.168.245.71:3006
SEQUENCE:0
DTSTAMP:20260423T024042Z
DTSTART:20251113T070000Z
DTEND:20251113T084000Z
SUMMARY:Теория вероятностей и математическая статистика
LOCATION:ГЗ 105
END:VEVENT
BEGIN:VEVENT
UID:tpg8@192.168.245.71:3006
SEQUENCE:0
DTSTAMP:20260423T024042Z
DTSTART:20251113T090000Z
DTEND:20251113T104000Z
SUMMARY:Теория вероятностей и математическая статистика
LOCATION:ГЗ 103
END:VEVENT
BEGIN:VEVENT
UID:lopo@192.168.245.71:3006
SEQUENCE:0
DTSTAMP:20260423T024042Z
DTSTART:20251114T130000Z
DTEND:20251114T144000Z
SUMMARY:Операционные системы
LOCATION:ГЗ 103
END:VEVENT
END:VCALENDAR