BEGIN:VCALENDAR
VERSION:2.0
PRODID:-//spbstu.ru//ical//RU
NAME:Расписание
X-WR-CALNAME:Расписание
TIMEZONE-ID:Europe/Moscow
X-WR-TIMEZONE:Europe/Moscow
BEGIN:VEVENT
UID:0opj@192.168.245.71:3006
SEQUENCE:0
DTSTAMP:20260421T035243Z
DTSTART:20260511T110000Z
DTEND:20260511T124000Z
SUMMARY:Теория вероятностей и математическая статистика
LOCATION:3 к. 305
END:VEVENT
BEGIN:VEVENT
UID:95fs@192.168.245.71:3006
SEQUENCE:0
DTSTAMP:20260421T035243Z
DTSTART:20260511T130000Z
DTEND:20260511T144000Z
SUMMARY:Теория вероятностей и математическая статистика
LOCATION:3 к. 305
END:VEVENT
BEGIN:VEVENT
UID:xjpg@192.168.245.71:3006
SEQUENCE:0
DTSTAMP:20260421T035243Z
DTSTART:20260512T110000Z
DTEND:20260512T124000Z
SUMMARY:Операционные системы
LOCATION:ГЗ 103
END:VEVENT
BEGIN:VEVENT
UID:4ekz@192.168.245.71:3006
SEQUENCE:0
DTSTAMP:20260421T035243Z
DTSTART:20260512T150000Z
DTEND:20260512T164000Z
SUMMARY:Теория вероятностей и математическая статистика
LOCATION:3 к. 208
END:VEVENT
BEGIN:VEVENT
UID:5c7e@192.168.245.71:3006
SEQUENCE:0
DTSTAMP:20260421T035243Z
DTSTART:20260513T070000Z
DTEND:20260513T084000Z
SUMMARY:Анализ инцидентов кибербезопасности
LOCATION:ГЗ 103
END:VEVENT
BEGIN:VEVENT
UID:x8eb@192.168.245.71:3006
SEQUENCE:0
DTSTAMP:20260421T035243Z
DTSTART:20260513T090000Z
DTEND:20260513T104000Z
SUMMARY:Анализ инцидентов кибербезопасности
LOCATION:ГЗ 103
END:VEVENT
BEGIN:VEVENT
UID:lsuo@192.168.245.71:3006
SEQUENCE:0
DTSTAMP:20260421T035243Z
DTSTART:20260515T110000Z
DTEND:20260515T124000Z
SUMMARY:Операционные системы
LOCATION:ГЗ 103
END:VEVENT
BEGIN:VEVENT
UID:7v4d@192.168.245.71:3006
SEQUENCE:0
DTSTAMP:20260421T035243Z
DTSTART:20260515T130000Z
DTEND:20260515T144000Z
SUMMARY:Операционные системы
LOCATION:3 к. 310
END:VEVENT
END:VCALENDAR