BEGIN:VCALENDAR
VERSION:2.0
PRODID:-//spbstu.ru//ical//RU
NAME:Расписание
X-WR-CALNAME:Расписание
TIMEZONE-ID:Europe/Moscow
X-WR-TIMEZONE:Europe/Moscow
BEGIN:VEVENT
UID:gvj9@192.168.245.71:3006
SEQUENCE:0
DTSTAMP:20260425T134017Z
DTSTART:20251203T070000Z
DTEND:20251203T084000Z
SUMMARY:История и методология науки
LOCATION:DL Дистанционно
END:VEVENT
END:VCALENDAR