BEGIN:VCALENDAR
VERSION:2.0
PRODID:-//spbstu.ru//ical//RU
NAME:Расписание
X-WR-CALNAME:Расписание
TIMEZONE-ID:Europe/Moscow
X-WR-TIMEZONE:Europe/Moscow
BEGIN:VEVENT
UID:7ata@192.168.245.71:3006
SEQUENCE:0
DTSTAMP:20260423T083514Z
DTSTART:20260313T110000Z
DTEND:20260313T124000Z
SUMMARY:Основы фотоники
LOCATION:2 к. 359
END:VEVENT
END:VCALENDAR