BEGIN:VCALENDAR
VERSION:2.0
PRODID:-//spbstu.ru//ical//RU
NAME:Расписание
X-WR-CALNAME:Расписание
TIMEZONE-ID:Europe/Moscow
X-WR-TIMEZONE:Europe/Moscow
BEGIN:VEVENT
UID:1a0r@192.168.245.71:3006
SEQUENCE:0
DTSTAMP:20260421T054706Z
DTSTART:20260414T130000Z
DTEND:20260414T144000Z
SUMMARY:Искусственный интеллект в кибер-физических системах
LOCATION:DL Дистанционно
END:VEVENT
BEGIN:VEVENT
UID:z8av@192.168.245.71:3006
SEQUENCE:0
DTSTAMP:20260421T054706Z
DTSTART:20260414T150000Z
DTEND:20260414T164000Z
SUMMARY:Искусственный интеллект в кибер-физических системах
LOCATION:DL Дистанционно
END:VEVENT
BEGIN:VEVENT
UID:dlgy@192.168.245.71:3006
SEQUENCE:0
DTSTAMP:20260421T054706Z
DTSTART:20260415T140000Z
DTEND:20260415T154000Z
SUMMARY:Теория вероятностей и математическая статистика
LOCATION:DL Дистанционно
END:VEVENT
END:VCALENDAR