BEGIN:VCALENDAR
VERSION:2.0
PRODID:-//spbstu.ru//ical//RU
NAME:Расписание
X-WR-CALNAME:Расписание
TIMEZONE-ID:Europe/Moscow
X-WR-TIMEZONE:Europe/Moscow
BEGIN:VEVENT
UID:r56c@192.168.245.71:3006
SEQUENCE:0
DTSTAMP:20260423T150353Z
DTSTART:20251117T070000Z
DTEND:20251117T084000Z
SUMMARY:Практический курс второго иностранного языка (английский язык для 
 иностранных студентов)
LOCATION:9 к. 217
END:VEVENT
BEGIN:VEVENT
UID:lpnd@192.168.245.71:3006
SEQUENCE:0
DTSTAMP:20260423T150353Z
DTSTART:20251117T090000Z
DTEND:20251117T104000Z
SUMMARY:Практикум по культуре речевого общения второго иностранного языка 
 (английский язык для иностранных студентов)
LOCATION:9 к. 330
END:VEVENT
BEGIN:VEVENT
UID:02ct@192.168.245.71:3006
SEQUENCE:0
DTSTAMP:20260423T150353Z
DTSTART:20251117T110000Z
DTEND:20251117T124000Z
SUMMARY:Практикум по культуре речевого общения второго иностранного языка 
 (английский язык для иностранных студентов)
LOCATION:9 к. 330
END:VEVENT
BEGIN:VEVENT
UID:cjaj@192.168.245.71:3006
SEQUENCE:0
DTSTAMP:20260423T150353Z
DTSTART:20251117T130000Z
DTEND:20251117T144000Z
SUMMARY:Переводческий тренинг с использованием информационных технологий
LOCATION:9 к. 217
END:VEVENT
BEGIN:VEVENT
UID:re0y@192.168.245.71:3006
SEQUENCE:0
DTSTAMP:20260423T150353Z
DTSTART:20251118T070000Z
DTEND:20251118T084000Z
SUMMARY:Практикум по культуре речевого общения первого иностранного языка 
 (английский язык)
LOCATION:9 к. 313
END:VEVENT
BEGIN:VEVENT
UID:j70z@192.168.245.71:3006
SEQUENCE:0
DTSTAMP:20260423T150353Z
DTSTART:20251118T090000Z
DTEND:20251118T104000Z
SUMMARY:Практикум по культуре речевого общения первого иностранного языка 
 (английский язык)
LOCATION:9 к. 313
END:VEVENT
BEGIN:VEVENT
UID:5jle@192.168.245.71:3006
SEQUENCE:0
DTSTAMP:20260423T150353Z
DTSTART:20251118T110000Z
DTEND:20251118T124000Z
SUMMARY:Практический курс второго иностранного языка (английский язык для 
 иностранных студентов)
LOCATION:9 к. 219
END:VEVENT
BEGIN:VEVENT
UID:bfw7@192.168.245.71:3006
SEQUENCE:0
DTSTAMP:20260423T150353Z
DTSTART:20251118T130000Z
DTEND:20251118T144000Z
SUMMARY:Практический курс второго иностранного языка (английский язык для 
 иностранных студентов)
LOCATION:9 к. 217
END:VEVENT
BEGIN:VEVENT
UID:dwg3@192.168.245.71:3006
SEQUENCE:0
DTSTAMP:20260423T150353Z
DTSTART:20251119T070000Z
DTEND:20251119T084000Z
SUMMARY:Практический курс второго иностранного языка (английский язык для 
 иностранных студентов)
LOCATION:9 к. 219а
END:VEVENT
BEGIN:VEVENT
UID:06i9@192.168.245.71:3006
SEQUENCE:0
DTSTAMP:20260423T150353Z
DTSTART:20251119T090000Z
DTEND:20251119T104000Z
SUMMARY:Практический курс второго иностранного языка (английский язык для 
 иностранных студентов)
LOCATION:9 к. 219а
END:VEVENT
BEGIN:VEVENT
UID:u9ke@192.168.245.71:3006
SEQUENCE:0
DTSTAMP:20260423T150353Z
DTSTART:20251119T110000Z
DTEND:20251119T124000Z
SUMMARY:Практикум по культуре речевого общения второго иностранного языка 
 (английский язык для иностранных студентов)
LOCATION:9 к. 219а
END:VEVENT
BEGIN:VEVENT
UID:cxit@192.168.245.71:3006
SEQUENCE:0
DTSTAMP:20260423T150353Z
DTSTART:20251119T130000Z
DTEND:20251119T144000Z
SUMMARY:Практикум по культуре речевого общения первого иностранного языка 
 (английский язык)
LOCATION:9 к. 208
END:VEVENT
BEGIN:VEVENT
UID:qxa8@192.168.245.71:3006
SEQUENCE:0
DTSTAMP:20260423T150353Z
DTSTART:20251120T070000Z
DTEND:20251120T084000Z
SUMMARY:Практикум по культуре речевого общения первого иностранного языка 
 (английский язык)
LOCATION:9 к. 415
END:VEVENT
BEGIN:VEVENT
UID:depb@192.168.245.71:3006
SEQUENCE:0
DTSTAMP:20260423T150353Z
DTSTART:20251120T090000Z
DTEND:20251120T104000Z
SUMMARY:Практикум по культуре речевого общения первого иностранного языка 
 (английский язык)
LOCATION:9 к. 415
END:VEVENT
BEGIN:VEVENT
UID:0pv2@192.168.245.71:3006
SEQUENCE:0
DTSTAMP:20260423T150353Z
DTSTART:20251120T110000Z
DTEND:20251120T124000Z
SUMMARY:Практикум по культуре речевого общения первого иностранного языка 
 (английский язык)
LOCATION:9 к. 415
END:VEVENT
BEGIN:VEVENT
UID:iyio@192.168.245.71:3006
SEQUENCE:0
DTSTAMP:20260423T150353Z
DTSTART:20251120T130000Z
DTEND:20251120T144000Z
SUMMARY:Практикум по культуре речевого общения второго иностранного языка 
 (английский язык для иностранных студентов)
LOCATION:9 к. 415
END:VEVENT
BEGIN:VEVENT
UID:1wxk@192.168.245.71:3006
SEQUENCE:0
DTSTAMP:20260423T150353Z
DTSTART:20251121T090000Z
DTEND:20251121T104000Z
SUMMARY:Практикум по устному последовательному и синхронному переводу
LOCATION:6 к. 17
END:VEVENT
BEGIN:VEVENT
UID:uiz6@192.168.245.71:3006
SEQUENCE:0
DTSTAMP:20260423T150353Z
DTSTART:20251121T110000Z
DTEND:20251121T124000Z
SUMMARY:Практический курс второго иностранного языка (английский язык для 
 иностранных студентов)
LOCATION:9 к. 313
END:VEVENT
BEGIN:VEVENT
UID:taw8@192.168.245.71:3006
SEQUENCE:0
DTSTAMP:20260423T150353Z
DTSTART:20251122T070000Z
DTEND:20251122T084000Z
SUMMARY:Иностранный язык в профессиональной коммуникации\, Английский
LOCATION:16 к. 411
END:VEVENT
BEGIN:VEVENT
UID:jc72@192.168.245.71:3006
SEQUENCE:0
DTSTAMP:20260423T150353Z
DTSTART:20251122T070000Z
DTEND:20251122T084000Z
SUMMARY:Иностранный язык в профессиональной коммуникации\, Английский
LOCATION:16 к. 411
END:VEVENT
END:VCALENDAR