BEGIN:VCALENDAR
VERSION:2.0
PRODID:-//spbstu.ru//ical//RU
NAME:Расписание
X-WR-CALNAME:Расписание
TIMEZONE-ID:Europe/Moscow
X-WR-TIMEZONE:Europe/Moscow
BEGIN:VEVENT
UID:pn28@192.168.245.71:3006
SEQUENCE:0
DTSTAMP:20260422T070840Z
DTSTART:20260227T090000Z
DTEND:20260227T104000Z
SUMMARY:Методы анализа и синтеза интеллектуальных систем
LOCATION:16 к. 414
END:VEVENT
BEGIN:VEVENT
UID:qev2@192.168.245.71:3006
SEQUENCE:0
DTSTAMP:20260422T070840Z
DTSTART:20260227T110000Z
DTEND:20260227T124000Z
SUMMARY:Методы анализа и синтеза интеллектуальных систем
LOCATION:16 к. 418
END:VEVENT
BEGIN:VEVENT
UID:vw3l@192.168.245.71:3006
SEQUENCE:0
DTSTAMP:20260422T070840Z
DTSTART:20260227T130000Z
DTEND:20260227T144000Z
SUMMARY:Методы анализа и синтеза интеллектуальных систем
LOCATION:16 к. 418
END:VEVENT
END:VCALENDAR