BEGIN:VCALENDAR
VERSION:2.0
PRODID:-//spbstu.ru//ical//RU
NAME:Расписание
X-WR-CALNAME:Расписание
TIMEZONE-ID:Europe/Moscow
X-WR-TIMEZONE:Europe/Moscow
BEGIN:VEVENT
UID:wfoz@192.168.245.71:3006
SEQUENCE:0
DTSTAMP:20260422T052242Z
DTSTART:20260306T090000Z
DTEND:20260306T104000Z
SUMMARY:Методы анализа и синтеза интеллектуальных систем
LOCATION:16 к. 414
END:VEVENT
BEGIN:VEVENT
UID:z68d@192.168.245.71:3006
SEQUENCE:0
DTSTAMP:20260422T052242Z
DTSTART:20260306T110000Z
DTEND:20260306T124000Z
SUMMARY:Методы анализа и синтеза интеллектуальных систем
LOCATION:16 к. 418
END:VEVENT
BEGIN:VEVENT
UID:cbvk@192.168.245.71:3006
SEQUENCE:0
DTSTAMP:20260422T052242Z
DTSTART:20260306T130000Z
DTEND:20260306T144000Z
SUMMARY:Методы анализа и синтеза интеллектуальных систем
LOCATION:16 к. 418
END:VEVENT
END:VCALENDAR