BEGIN:VCALENDAR
VERSION:2.0
PRODID:-//spbstu.ru//ical//RU
NAME:Расписание
X-WR-CALNAME:Расписание
TIMEZONE-ID:Europe/Moscow
X-WR-TIMEZONE:Europe/Moscow
BEGIN:VEVENT
UID:ibjx@192.168.245.71:3006
SEQUENCE:0
DTSTAMP:20260422T055602Z
DTSTART:20260303T090000Z
DTEND:20260303T104000Z
SUMMARY:Планировка\, застройка и реконструкция населенных мест
LOCATION:ГК-2 313
END:VEVENT
BEGIN:VEVENT
UID:injk@192.168.245.71:3006
SEQUENCE:0
DTSTAMP:20260422T055602Z
DTSTART:20260303T110000Z
DTEND:20260303T124000Z
SUMMARY:Планировка\, застройка и реконструкция населенных мест
LOCATION:ГК-2 401
END:VEVENT
BEGIN:VEVENT
UID:fx6x@192.168.245.71:3006
SEQUENCE:0
DTSTAMP:20260422T055602Z
DTSTART:20260303T130000Z
DTEND:20260303T144000Z
SUMMARY:Планировка\, застройка и реконструкция населенных мест
LOCATION:ГК-2 401
END:VEVENT
BEGIN:VEVENT
UID:uqkq@192.168.245.71:3006
SEQUENCE:0
DTSTAMP:20260422T055602Z
DTSTART:20260304T110000Z
DTEND:20260304T124000Z
SUMMARY:Комплексное благоустройство территорий населенных мест
LOCATION:ГК-2 509
END:VEVENT
BEGIN:VEVENT
UID:9pft@192.168.245.71:3006
SEQUENCE:0
DTSTAMP:20260422T055602Z
DTSTART:20260305T110000Z
DTEND:20260305T124000Z
SUMMARY:Комплексное благоустройство территорий населенных мест
LOCATION:ГК-2 410
END:VEVENT
BEGIN:VEVENT
UID:1zzl@192.168.245.71:3006
SEQUENCE:0
DTSTAMP:20260422T055602Z
DTSTART:20260305T130000Z
DTEND:20260305T144000Z
SUMMARY:Комплексное благоустройство территорий населенных мест
LOCATION:ГК-2 410
END:VEVENT
END:VCALENDAR