BEGIN:VCALENDAR
VERSION:2.0
PRODID:-//spbstu.ru//ical//RU
NAME:Расписание
X-WR-CALNAME:Расписание
TIMEZONE-ID:Europe/Moscow
X-WR-TIMEZONE:Europe/Moscow
BEGIN:VEVENT
UID:7b9n@192.168.245.71:3006
SEQUENCE:0
DTSTAMP:20260422T104438Z
DTSTART:20260312T110000Z
DTEND:20260312T124000Z
SUMMARY:Комплексное благоустройство территорий населенных мест
LOCATION:ГК-2 410
END:VEVENT
BEGIN:VEVENT
UID:thle@192.168.245.71:3006
SEQUENCE:0
DTSTAMP:20260422T104438Z
DTSTART:20260312T130000Z
DTEND:20260312T144000Z
SUMMARY:Комплексное благоустройство территорий населенных мест
LOCATION:ГК-2 410
END:VEVENT
END:VCALENDAR