BEGIN:VCALENDAR
VERSION:2.0
PRODID:-//spbstu.ru//ical//RU
NAME:Расписание
X-WR-CALNAME:Расписание
TIMEZONE-ID:Europe/Moscow
X-WR-TIMEZONE:Europe/Moscow
BEGIN:VEVENT
UID:sxi9@192.168.245.71:3006
SEQUENCE:0
DTSTAMP:20260421T152044Z
DTSTART:20260330T110000Z
DTEND:20260330T124000Z
SUMMARY:Теория автоматического управления
LOCATION:16 к. 313
END:VEVENT
BEGIN:VEVENT
UID:s8t0@192.168.245.71:3006
SEQUENCE:0
DTSTAMP:20260421T152044Z
DTSTART:20260330T130000Z
DTEND:20260330T144000Z
SUMMARY:Теория автоматического управления
LOCATION:16 к. 313
END:VEVENT
BEGIN:VEVENT
UID:id2u@192.168.245.71:3006
SEQUENCE:0
DTSTAMP:20260421T152044Z
DTSTART:20260402T090000Z
DTEND:20260402T104000Z
SUMMARY:Теория автоматического управления
LOCATION:16 к. 418
END:VEVENT
BEGIN:VEVENT
UID:0rmo@192.168.245.71:3006
SEQUENCE:0
DTSTAMP:20260421T152044Z
DTSTART:20260402T110000Z
DTEND:20260402T124000Z
SUMMARY:Теория автоматического управления
LOCATION:16 к. 418
END:VEVENT
END:VCALENDAR