BEGIN:VCALENDAR
VERSION:2.0
PRODID:-//spbstu.ru//ical//RU
NAME:Расписание
X-WR-CALNAME:Расписание
TIMEZONE-ID:Europe/Moscow
X-WR-TIMEZONE:Europe/Moscow
BEGIN:VEVENT
UID:0qb9@192.168.245.71:3006
SEQUENCE:0
DTSTAMP:20260422T190356Z
DTSTART:20251111T070000Z
DTEND:20251111T084000Z
SUMMARY:Инженерная графика
LOCATION:ГЗ 304
END:VEVENT
BEGIN:VEVENT
UID:2ti9@192.168.245.71:3006
SEQUENCE:0
DTSTAMP:20260422T190356Z
DTSTART:20251111T110000Z
DTEND:20251111T124000Z
SUMMARY:Инженерная графика
LOCATION:ГЗ 239
END:VEVENT
BEGIN:VEVENT
UID:7i7u@192.168.245.71:3006
SEQUENCE:0
DTSTAMP:20260422T190356Z
DTSTART:20251112T060000Z
DTEND:20251112T074000Z
SUMMARY:Инженерная графика (продвинутый уровень)
LOCATION:ГЗ 304
END:VEVENT
BEGIN:VEVENT
UID:vcry@192.168.245.71:3006
SEQUENCE:0
DTSTAMP:20260422T190356Z
DTSTART:20251112T075000Z
DTEND:20251112T092000Z
SUMMARY:Инженерная графика (продвинутый уровень)
LOCATION:ГЗ 304
END:VEVENT
BEGIN:VEVENT
UID:1m2w@192.168.245.71:3006
SEQUENCE:0
DTSTAMP:20260422T190356Z
DTSTART:20251112T090000Z
DTEND:20251112T104000Z
SUMMARY:Инженерная геометрия
LOCATION:ГЗ 304
END:VEVENT
BEGIN:VEVENT
UID:vb3u@192.168.245.71:3006
SEQUENCE:0
DTSTAMP:20260422T190356Z
DTSTART:20251112T110000Z
DTEND:20251112T124000Z
SUMMARY:Инженерная графика
LOCATION:ГЗ 304
END:VEVENT
BEGIN:VEVENT
UID:kt1v@192.168.245.71:3006
SEQUENCE:0
DTSTAMP:20260422T190356Z
DTSTART:20251114T070000Z
DTEND:20251114T084000Z
SUMMARY:Инженерная графика
LOCATION:ГЗ 280
END:VEVENT
BEGIN:VEVENT
UID:94lu@192.168.245.71:3006
SEQUENCE:0
DTSTAMP:20260422T190356Z
DTSTART:20251114T090000Z
DTEND:20251114T104000Z
SUMMARY:Введение в профессиональную деятельность
LOCATION:ГЗ 304
END:VEVENT
BEGIN:VEVENT
UID:3jdq@192.168.245.71:3006
SEQUENCE:0
DTSTAMP:20260422T190356Z
DTSTART:20251114T110000Z
DTEND:20251114T124500Z
SUMMARY:Теория дизайна
LOCATION:ГЗ 304
END:VEVENT
BEGIN:VEVENT
UID:z3rn@192.168.245.71:3006
SEQUENCE:0
DTSTAMP:20260422T190356Z
DTSTART:20251114T130000Z
DTEND:20251114T144000Z
SUMMARY:Введение в профессиональную деятельность
LOCATION:ГЗ 304
END:VEVENT
END:VCALENDAR