BEGIN:VCALENDAR
VERSION:2.0
PRODID:-//spbstu.ru//ical//RU
NAME:Расписание
X-WR-CALNAME:Расписание
TIMEZONE-ID:Europe/Moscow
X-WR-TIMEZONE:Europe/Moscow
BEGIN:VEVENT
UID:v1t8@192.168.245.71:3006
SEQUENCE:0
DTSTAMP:20260421T081214Z
DTSTART:20260217T080000Z
DTEND:20260217T084000Z
SUMMARY:НИРМ
LOCATION:ГЗ 304
END:VEVENT
BEGIN:VEVENT
UID:oxy9@192.168.245.71:3006
SEQUENCE:0
DTSTAMP:20260421T081214Z
DTSTART:20260217T090000Z
DTEND:20260217T104000Z
SUMMARY:Инженерная графика
LOCATION:ГЗ 152
END:VEVENT
BEGIN:VEVENT
UID:smiy@192.168.245.71:3006
SEQUENCE:0
DTSTAMP:20260421T081214Z
DTSTART:20260217T110000Z
DTEND:20260217T124000Z
SUMMARY:Введение в профессиональную деятельность
LOCATION:ГЗ 314
END:VEVENT
BEGIN:VEVENT
UID:zdwz@192.168.245.71:3006
SEQUENCE:0
DTSTAMP:20260421T081214Z
DTSTART:20260219T110000Z
DTEND:20260219T124000Z
SUMMARY:Инженерная графика
LOCATION:ГЗ 304
END:VEVENT
BEGIN:VEVENT
UID:rx05@192.168.245.71:3006
SEQUENCE:0
DTSTAMP:20260421T081214Z
DTSTART:20260219T130000Z
DTEND:20260219T144000Z
SUMMARY:Инженерная графика
LOCATION:ГЗ 257
END:VEVENT
BEGIN:VEVENT
UID:3oiw@192.168.245.71:3006
SEQUENCE:0
DTSTAMP:20260421T081214Z
DTSTART:20260220T090000Z
DTEND:20260220T104000Z
SUMMARY:Инженерная графика
LOCATION:ГЗ 304
END:VEVENT
BEGIN:VEVENT
UID:m4ut@192.168.245.71:3006
SEQUENCE:0
DTSTAMP:20260421T081214Z
DTSTART:20260220T110000Z
DTEND:20260220T124000Z
SUMMARY:Инженерная геометрия
LOCATION:ГЗ 304
END:VEVENT
END:VCALENDAR