BEGIN:VCALENDAR
VERSION:2.0
PRODID:-//spbstu.ru//ical//RU
NAME:Расписание
X-WR-CALNAME:Расписание
TIMEZONE-ID:Europe/Moscow
X-WR-TIMEZONE:Europe/Moscow
BEGIN:VEVENT
UID:17q0@192.168.245.71:3006
SEQUENCE:0
DTSTAMP:20260420T201010Z
DTSTART:20260407T090000Z
DTEND:20260407T104000Z
SUMMARY:Инженерная графика
LOCATION:ГЗ 123
END:VEVENT
BEGIN:VEVENT
UID:dyhm@192.168.245.71:3006
SEQUENCE:0
DTSTAMP:20260420T201010Z
DTSTART:20260410T070000Z
DTEND:20260410T084000Z
SUMMARY:Инженерная графика
LOCATION:ГЗ 225
END:VEVENT
BEGIN:VEVENT
UID:n7hv@192.168.245.71:3006
SEQUENCE:0
DTSTAMP:20260420T201010Z
DTSTART:20260410T090000Z
DTEND:20260410T104000Z
SUMMARY:Инженерная графика
LOCATION:ГЗ 304
END:VEVENT
BEGIN:VEVENT
UID:4xlt@192.168.245.71:3006
SEQUENCE:0
DTSTAMP:20260420T201010Z
DTSTART:20260410T110000Z
DTEND:20260410T124000Z
SUMMARY:Инженерная геометрия
LOCATION:ГЗ 304
END:VEVENT
END:VCALENDAR