BEGIN:VCALENDAR
VERSION:2.0
PRODID:-//spbstu.ru//ical//RU
NAME:Расписание
X-WR-CALNAME:Расписание
TIMEZONE-ID:Europe/Moscow
X-WR-TIMEZONE:Europe/Moscow
BEGIN:VEVENT
UID:renu@192.168.245.71:3006
SEQUENCE:0
DTSTAMP:20260423T071546Z
DTSTART:20251115T070000Z
DTEND:20251115T084000Z
SUMMARY:Инженерный практикум
LOCATION:Мех. к. Комп. кл. КВХТ №37
END:VEVENT
BEGIN:VEVENT
UID:j0ky@192.168.245.71:3006
SEQUENCE:0
DTSTAMP:20260423T071546Z
DTSTART:20251115T090000Z
DTEND:20251115T104000Z
SUMMARY:Инженерный практикум
LOCATION:Мех. к. Комп. кл. КВХТ №37
END:VEVENT
END:VCALENDAR