BEGIN:VCALENDAR
VERSION:2.0
PRODID:-//spbstu.ru//ical//RU
NAME:Расписание
X-WR-CALNAME:Расписание
TIMEZONE-ID:Europe/Moscow
X-WR-TIMEZONE:Europe/Moscow
BEGIN:VEVENT
UID:ot9z@192.168.245.71:3006
SEQUENCE:0
DTSTAMP:20260421T110120Z
DTSTART:20260307T070000Z
DTEND:20260307T084000Z
SUMMARY:Теория турбомашин
LOCATION:Мех. к. Комп. кл. КВХТ №37
END:VEVENT
BEGIN:VEVENT
UID:rbfu@192.168.245.71:3006
SEQUENCE:0
DTSTAMP:20260421T110120Z
DTSTART:20260307T090000Z
DTEND:20260307T104000Z
SUMMARY:Расчет и конструирование осевых\, центробежных компрессоров
LOCATION:Мех. к. Комп. кл. КВХТ №37
END:VEVENT
BEGIN:VEVENT
UID:3onk@192.168.245.71:3006
SEQUENCE:0
DTSTAMP:20260421T110120Z
DTSTART:20260307T110000Z
DTEND:20260307T124000Z
SUMMARY:Инженерный практикум
LOCATION:Мех. к. Комп. кл. КВХТ №37
END:VEVENT
END:VCALENDAR