BEGIN:VCALENDAR
VERSION:2.0
PRODID:-//spbstu.ru//ical//RU
NAME:Расписание
X-WR-CALNAME:Расписание
TIMEZONE-ID:Europe/Moscow
X-WR-TIMEZONE:Europe/Moscow
BEGIN:VEVENT
UID:okcr@192.168.245.71:3006
SEQUENCE:0
DTSTAMP:20260421T040838Z
DTSTART:20260404T070000Z
DTEND:20260404T084000Z
SUMMARY:Теория турбомашин
LOCATION:Мех. к. Комп. кл. КВХТ №37
END:VEVENT
BEGIN:VEVENT
UID:y8lm@192.168.245.71:3006
SEQUENCE:0
DTSTAMP:20260421T040838Z
DTSTART:20260404T090000Z
DTEND:20260404T104000Z
SUMMARY:Расчет и конструирование осевых\, центробежных компрессоров
LOCATION:Мех. к. Комп. кл. КВХТ №37
END:VEVENT
BEGIN:VEVENT
UID:a45a@192.168.245.71:3006
SEQUENCE:0
DTSTAMP:20260421T040838Z
DTSTART:20260404T110000Z
DTEND:20260404T124000Z
SUMMARY:Инженерный практикум
LOCATION:Мех. к. Комп. кл. КВХТ №37
END:VEVENT
END:VCALENDAR