BEGIN:VCALENDAR
VERSION:2.0
PRODID:-//spbstu.ru//ical//RU
NAME:Расписание
X-WR-CALNAME:Расписание
TIMEZONE-ID:Europe/Moscow
X-WR-TIMEZONE:Europe/Moscow
BEGIN:VEVENT
UID:ygvi@192.168.245.71:3006
SEQUENCE:0
DTSTAMP:20260424T123446Z
DTSTART:20251111T090000Z
DTEND:20251111T104000Z
SUMMARY:САПР технологических процессов
LOCATION:Мех. к. каф.Т М
END:VEVENT
BEGIN:VEVENT
UID:ttls@192.168.245.71:3006
SEQUENCE:0
DTSTAMP:20260424T123446Z
DTSTART:20251112T070000Z
DTEND:20251112T084000Z
SUMMARY:САПР технологических процессов
LOCATION:Мех. к. каф.Т М
END:VEVENT
BEGIN:VEVENT
UID:c29s@192.168.245.71:3006
SEQUENCE:0
DTSTAMP:20260424T123446Z
DTSTART:20251112T090000Z
DTEND:20251112T104000Z
SUMMARY:САПР технологических процессов
LOCATION:Мех. к. каф.Т М
END:VEVENT
BEGIN:VEVENT
UID:7asx@192.168.245.71:3006
SEQUENCE:0
DTSTAMP:20260424T123446Z
DTSTART:20251112T090000Z
DTEND:20251112T104000Z
SUMMARY:САПР технологических процессов
LOCATION:Мех. к. каф.Т М
END:VEVENT
BEGIN:VEVENT
UID:dt5p@192.168.245.71:3006
SEQUENCE:0
DTSTAMP:20260424T123446Z
DTSTART:20251112T090000Z
DTEND:20251112T104000Z
SUMMARY:САПР технологических процессов
LOCATION:Мех. к. каф.Т М
END:VEVENT
BEGIN:VEVENT
UID:orw7@192.168.245.71:3006
SEQUENCE:0
DTSTAMP:20260424T123446Z
DTSTART:20251112T110000Z
DTEND:20251112T124000Z
SUMMARY:САПР технологических процессов
LOCATION:Мех. к. каф.Т М
END:VEVENT
END:VCALENDAR