BEGIN:VCALENDAR
VERSION:2.0
PRODID:-//spbstu.ru//ical//RU
NAME:Расписание
X-WR-CALNAME:Расписание
TIMEZONE-ID:Europe/Moscow
X-WR-TIMEZONE:Europe/Moscow
BEGIN:VEVENT
UID:qyr5@192.168.245.71:3006
SEQUENCE:0
DTSTAMP:20260425T025334Z
DTSTART:20250930T090000Z
DTEND:20250930T104000Z
SUMMARY:САПР технологических процессов
LOCATION:Мех. к. каф.Т М
END:VEVENT
BEGIN:VEVENT
UID:3oix@192.168.245.71:3006
SEQUENCE:0
DTSTAMP:20260425T025334Z
DTSTART:20251001T070000Z
DTEND:20251001T084000Z
SUMMARY:САПР технологических процессов
LOCATION:Мех. к. каф.Т М
END:VEVENT
BEGIN:VEVENT
UID:lvay@192.168.245.71:3006
SEQUENCE:0
DTSTAMP:20260425T025334Z
DTSTART:20251001T090000Z
DTEND:20251001T104000Z
SUMMARY:САПР технологических процессов
LOCATION:Мех. к. каф.Т М
END:VEVENT
BEGIN:VEVENT
UID:kal8@192.168.245.71:3006
SEQUENCE:0
DTSTAMP:20260425T025334Z
DTSTART:20251001T090000Z
DTEND:20251001T104000Z
SUMMARY:САПР технологических процессов
LOCATION:Мех. к. каф.Т М
END:VEVENT
BEGIN:VEVENT
UID:1cza@192.168.245.71:3006
SEQUENCE:0
DTSTAMP:20260425T025334Z
DTSTART:20251001T090000Z
DTEND:20251001T104000Z
SUMMARY:САПР технологических процессов
LOCATION:Мех. к. каф.Т М
END:VEVENT
BEGIN:VEVENT
UID:iwgf@192.168.245.71:3006
SEQUENCE:0
DTSTAMP:20260425T025334Z
DTSTART:20251001T110000Z
DTEND:20251001T124000Z
SUMMARY:САПР технологических процессов
LOCATION:Мех. к. каф.Т М
END:VEVENT
END:VCALENDAR