BEGIN:VCALENDAR
VERSION:2.0
PRODID:-//spbstu.ru//ical//RU
NAME:Расписание
X-WR-CALNAME:Расписание
TIMEZONE-ID:Europe/Moscow
X-WR-TIMEZONE:Europe/Moscow
BEGIN:VEVENT
UID:xa5e@192.168.245.71:3006
SEQUENCE:0
DTSTAMP:20260422T000111Z
DTSTART:20260530T070000Z
DTEND:20260530T084000Z
SUMMARY:Газотурбинные агрегаты ГПС
LOCATION:Мех. к. ВЦ
END:VEVENT
END:VCALENDAR