BEGIN:VCALENDAR
VERSION:2.0
PRODID:-//spbstu.ru//ical//RU
NAME:Расписание
X-WR-CALNAME:Расписание
TIMEZONE-ID:Europe/Moscow
X-WR-TIMEZONE:Europe/Moscow
BEGIN:VEVENT
UID:g5xi@192.168.245.71:3006
SEQUENCE:0
DTSTAMP:20260424T112444Z
DTSTART:20251006T050000Z
DTEND:20251006T064000Z
SUMMARY:Цифровая аналитика
LOCATION:50 уч.к 1103
END:VEVENT
BEGIN:VEVENT
UID:4q1u@192.168.245.71:3006
SEQUENCE:0
DTSTAMP:20260424T112444Z
DTSTART:20251006T070000Z
DTEND:20251006T084000Z
SUMMARY:Цифровая аналитика
LOCATION:50 уч.к 1210
END:VEVENT
BEGIN:VEVENT
UID:qc1d@192.168.245.71:3006
SEQUENCE:0
DTSTAMP:20260424T112444Z
DTSTART:20251006T090000Z
DTEND:20251006T104000Z
SUMMARY:Цифровая аналитика
LOCATION:50 уч.к 1210
END:VEVENT
END:VCALENDAR