BEGIN:VCALENDAR
VERSION:2.0
PRODID:-//spbstu.ru//ical//RU
NAME:Расписание
X-WR-CALNAME:Расписание
TIMEZONE-ID:Europe/Moscow
X-WR-TIMEZONE:Europe/Moscow
BEGIN:VEVENT
UID:vtbf@192.168.245.71:3006
SEQUENCE:0
DTSTAMP:20260421T134649Z
DTSTART:20260401T070000Z
DTEND:20260401T084000Z
SUMMARY:Управление данными
LOCATION:50 уч.к 1101
END:VEVENT
BEGIN:VEVENT
UID:g1ua@192.168.245.71:3006
SEQUENCE:0
DTSTAMP:20260421T134649Z
DTSTART:20260401T090000Z
DTEND:20260401T104000Z
SUMMARY:Управление данными
LOCATION:50 уч.к 1101
END:VEVENT
END:VCALENDAR