BEGIN:VCALENDAR
VERSION:2.0
PRODID:-//spbstu.ru//ical//RU
NAME:Расписание
X-WR-CALNAME:Расписание
TIMEZONE-ID:Europe/Moscow
X-WR-TIMEZONE:Europe/Moscow
BEGIN:VEVENT
UID:hwmg@192.168.245.71:3006
SEQUENCE:0
DTSTAMP:20260424T090148Z
DTSTART:20251110T090000Z
DTEND:20251110T104000Z
SUMMARY:Практикум по разработке документов в технических проектах
LOCATION:DL Дистанционно
END:VEVENT
BEGIN:VEVENT
UID:19jl@192.168.245.71:3006
SEQUENCE:0
DTSTAMP:20260424T090148Z
DTSTART:20251110T110000Z
DTEND:20251110T124000Z
SUMMARY:Практикум по разработке документов в технических проектах
LOCATION:DL Дистанционно
END:VEVENT
BEGIN:VEVENT
UID:9pyo@192.168.245.71:3006
SEQUENCE:0
DTSTAMP:20260424T090148Z
DTSTART:20251110T130000Z
DTEND:20251110T144000Z
SUMMARY:Практикум по разработке документов в технических проектах
LOCATION:DL Дистанционно
END:VEVENT
BEGIN:VEVENT
UID:2re3@192.168.245.71:3006
SEQUENCE:0
DTSTAMP:20260424T090148Z
DTSTART:20251111T090000Z
DTEND:20251111T104000Z
SUMMARY:Проектирование баз данных и информационных систем
LOCATION:11 к. 350
END:VEVENT
BEGIN:VEVENT
UID:fzei@192.168.245.71:3006
SEQUENCE:0
DTSTAMP:20260424T090148Z
DTSTART:20251111T130000Z
DTEND:20251111T144000Z
SUMMARY:Проектирование баз данных и информационных систем
LOCATION:11 к. 350
END:VEVENT
BEGIN:VEVENT
UID:ohjm@192.168.245.71:3006
SEQUENCE:0
DTSTAMP:20260424T090148Z
DTSTART:20251111T150000Z
DTEND:20251111T164000Z
SUMMARY:Проектирование баз данных и информационных систем
LOCATION:11 к. 344-1
END:VEVENT
BEGIN:VEVENT
UID:961i@192.168.245.71:3006
SEQUENCE:0
DTSTAMP:20260424T090148Z
DTSTART:20251111T150000Z
DTEND:20251111T164000Z
SUMMARY:Проектирование баз данных и информационных систем
LOCATION:11 к. 344-1
END:VEVENT
BEGIN:VEVENT
UID:hbag@192.168.245.71:3006
SEQUENCE:0
DTSTAMP:20260424T090148Z
DTSTART:20251114T150000Z
DTEND:20251114T164000Z
SUMMARY:Практикум по разработке документов в технических проектах
LOCATION:11 к. 350
END:VEVENT
BEGIN:VEVENT
UID:1hdt@192.168.245.71:3006
SEQUENCE:0
DTSTAMP:20260424T090148Z
DTSTART:20251114T150000Z
DTEND:20251114T164000Z
SUMMARY:Проектирование документов в области управления качеством
LOCATION:11 к. 350
END:VEVENT
END:VCALENDAR