BEGIN:VCALENDAR
VERSION:2.0
PRODID:-//spbstu.ru//ical//RU
NAME:Расписание
X-WR-CALNAME:Расписание
TIMEZONE-ID:Europe/Moscow
X-WR-TIMEZONE:Europe/Moscow
BEGIN:VEVENT
UID:u2e7@192.168.245.71:3006
SEQUENCE:0
DTSTAMP:20260424T013326Z
DTSTART:20251125T070000Z
DTEND:20251125T084000Z
SUMMARY:Практикум по разработке документов в технических проектах
LOCATION:DL Дистанционно
END:VEVENT
BEGIN:VEVENT
UID:58n3@192.168.245.71:3006
SEQUENCE:0
DTSTAMP:20260424T013326Z
DTSTART:20251125T090000Z
DTEND:20251125T104000Z
SUMMARY:Практикум по разработке документов в технических проектах
LOCATION:DL Дистанционно
END:VEVENT
BEGIN:VEVENT
UID:xly0@192.168.245.71:3006
SEQUENCE:0
DTSTAMP:20260424T013326Z
DTSTART:20251125T090000Z
DTEND:20251125T104000Z
SUMMARY:Проектирование баз данных и информационных систем
LOCATION:11 к. 350
END:VEVENT
BEGIN:VEVENT
UID:lkj4@192.168.245.71:3006
SEQUENCE:0
DTSTAMP:20260424T013326Z
DTSTART:20251125T110000Z
DTEND:20251125T124000Z
SUMMARY:Практикум по разработке документов в технических проектах
LOCATION:DL Дистанционно
END:VEVENT
BEGIN:VEVENT
UID:u459@192.168.245.71:3006
SEQUENCE:0
DTSTAMP:20260424T013326Z
DTSTART:20251125T130000Z
DTEND:20251125T144000Z
SUMMARY:Проектирование баз данных и информационных систем
LOCATION:11 к. 350
END:VEVENT
BEGIN:VEVENT
UID:ujep@192.168.245.71:3006
SEQUENCE:0
DTSTAMP:20260424T013326Z
DTSTART:20251128T150000Z
DTEND:20251128T164000Z
SUMMARY:Практикум по разработке документов в технических проектах
LOCATION:11 к. 350
END:VEVENT
BEGIN:VEVENT
UID:5zrx@192.168.245.71:3006
SEQUENCE:0
DTSTAMP:20260424T013326Z
DTSTART:20251128T150000Z
DTEND:20251128T164000Z
SUMMARY:Проектирование документов в области управления качеством
LOCATION:11 к. 350
END:VEVENT
END:VCALENDAR