BEGIN:VCALENDAR
VERSION:2.0
PRODID:-//spbstu.ru//ical//RU
NAME:Расписание
X-WR-CALNAME:Расписание
TIMEZONE-ID:Europe/Moscow
X-WR-TIMEZONE:Europe/Moscow
BEGIN:VEVENT
UID:ktvm@192.168.245.71:3006
SEQUENCE:0
DTSTAMP:20260424T233626Z
DTSTART:20250930T090000Z
DTEND:20250930T104000Z
SUMMARY:Проектирование баз данных и информационных систем
LOCATION:11 к. 350
END:VEVENT
BEGIN:VEVENT
UID:v7q5@192.168.245.71:3006
SEQUENCE:0
DTSTAMP:20260424T233626Z
DTSTART:20250930T130000Z
DTEND:20250930T144000Z
SUMMARY:Проектирование баз данных и информационных систем
LOCATION:11 к. 350
END:VEVENT
BEGIN:VEVENT
UID:1q41@192.168.245.71:3006
SEQUENCE:0
DTSTAMP:20260424T233626Z
DTSTART:20251003T150000Z
DTEND:20251003T164000Z
SUMMARY:Практикум по разработке документов в технических проектах
LOCATION:11 к. 350
END:VEVENT
BEGIN:VEVENT
UID:qy9g@192.168.245.71:3006
SEQUENCE:0
DTSTAMP:20260424T233626Z
DTSTART:20251003T150000Z
DTEND:20251003T164000Z
SUMMARY:Проектирование документов в области управления качеством
LOCATION:11 к. 350
END:VEVENT
END:VCALENDAR