BEGIN:VCALENDAR
VERSION:2.0
PRODID:-//spbstu.ru//ical//RU
NAME:Расписание
X-WR-CALNAME:Расписание
TIMEZONE-ID:Europe/Moscow
X-WR-TIMEZONE:Europe/Moscow
BEGIN:VEVENT
UID:0mut@192.168.245.71:3006
SEQUENCE:0
DTSTAMP:20260421T114747Z
DTSTART:20260415T130000Z
DTEND:20260415T144000Z
SUMMARY:Проектирование баз данных и информационных систем
LOCATION:11 к. 344
END:VEVENT
BEGIN:VEVENT
UID:6mn6@192.168.245.71:3006
SEQUENCE:0
DTSTAMP:20260421T114747Z
DTSTART:20260417T090000Z
DTEND:20260417T104000Z
SUMMARY:Проектирование баз данных и информационных систем
LOCATION:11 к. 350
END:VEVENT
END:VCALENDAR