BEGIN:VCALENDAR
VERSION:2.0
PRODID:-//spbstu.ru//ical//RU
NAME:Расписание
X-WR-CALNAME:Расписание
TIMEZONE-ID:Europe/Moscow
X-WR-TIMEZONE:Europe/Moscow
BEGIN:VEVENT
UID:wmfj@192.168.245.71:3006
SEQUENCE:0
DTSTAMP:20260422T042643Z
DTSTART:20260219T090000Z
DTEND:20260219T104000Z
SUMMARY:Компьютерный расчет и проектирование средств технологического осна
 щения
LOCATION:Мех. к. каф.Т М
END:VEVENT
BEGIN:VEVENT
UID:zazw@192.168.245.71:3006
SEQUENCE:0
DTSTAMP:20260422T042643Z
DTSTART:20260219T090000Z
DTEND:20260219T104000Z
SUMMARY:Компьютерный расчет и проектирование средств технологического осна
 щения
LOCATION:Мех. к. каф.Т М
END:VEVENT
BEGIN:VEVENT
UID:jghb@192.168.245.71:3006
SEQUENCE:0
DTSTAMP:20260422T042643Z
DTSTART:20260219T090000Z
DTEND:20260219T104000Z
SUMMARY:Компьютерный расчет и проектирование средств технологического осна
 щения
LOCATION:Мех. к. каф.Т М
END:VEVENT
BEGIN:VEVENT
UID:hr31@192.168.245.71:3006
SEQUENCE:0
DTSTAMP:20260422T042643Z
DTSTART:20260219T110000Z
DTEND:20260219T124000Z
SUMMARY:Компьютерный расчет и проектирование средств технологического осна
 щения
LOCATION:Мех. к. каф.Т М
END:VEVENT
BEGIN:VEVENT
UID:wfvk@192.168.245.71:3006
SEQUENCE:0
DTSTAMP:20260422T042643Z
DTSTART:20260219T130000Z
DTEND:20260219T144000Z
SUMMARY:Компьютерный расчет и проектирование средств технологического осна
 щения
LOCATION:Мех. к. каф.Т М
END:VEVENT
END:VCALENDAR