BEGIN:VCALENDAR
VERSION:2.0
PRODID:-//spbstu.ru//ical//RU
NAME:Расписание
X-WR-CALNAME:Расписание
TIMEZONE-ID:Europe/Moscow
X-WR-TIMEZONE:Europe/Moscow
BEGIN:VEVENT
UID:eae7@192.168.245.71:3006
SEQUENCE:0
DTSTAMP:20260421T164329Z
DTSTART:20260326T090000Z
DTEND:20260326T104000Z
SUMMARY:Компьютерный расчет и проектирование средств технологического осна
 щения
LOCATION:Мех. к. каф.Т М
END:VEVENT
BEGIN:VEVENT
UID:ia32@192.168.245.71:3006
SEQUENCE:0
DTSTAMP:20260421T164329Z
DTSTART:20260326T090000Z
DTEND:20260326T104000Z
SUMMARY:Компьютерный расчет и проектирование средств технологического осна
 щения
LOCATION:Мех. к. каф.Т М
END:VEVENT
BEGIN:VEVENT
UID:j5h2@192.168.245.71:3006
SEQUENCE:0
DTSTAMP:20260421T164329Z
DTSTART:20260326T090000Z
DTEND:20260326T104000Z
SUMMARY:Компьютерный расчет и проектирование средств технологического осна
 щения
LOCATION:Мех. к. каф.Т М
END:VEVENT
BEGIN:VEVENT
UID:c2f1@192.168.245.71:3006
SEQUENCE:0
DTSTAMP:20260421T164329Z
DTSTART:20260326T110000Z
DTEND:20260326T124000Z
SUMMARY:Компьютерный расчет и проектирование средств технологического осна
 щения
LOCATION:Мех. к. каф.Т М
END:VEVENT
BEGIN:VEVENT
UID:2l72@192.168.245.71:3006
SEQUENCE:0
DTSTAMP:20260421T164329Z
DTSTART:20260326T130000Z
DTEND:20260326T144000Z
SUMMARY:Компьютерный расчет и проектирование средств технологического осна
 щения
LOCATION:Мех. к. каф.Т М
END:VEVENT
END:VCALENDAR