BEGIN:VCALENDAR
VERSION:2.0
PRODID:-//spbstu.ru//ical//RU
NAME:Расписание
X-WR-CALNAME:Расписание
TIMEZONE-ID:Europe/Moscow
X-WR-TIMEZONE:Europe/Moscow
BEGIN:VEVENT
UID:ypg9@192.168.245.71:3006
SEQUENCE:0
DTSTAMP:20260422T134504Z
DTSTART:20260413T150000Z
DTEND:20260413T164000Z
SUMMARY:Прикладные исследования в комплексном регионоведении
LOCATION:16 к. 109
END:VEVENT
BEGIN:VEVENT
UID:v5id@192.168.245.71:3006
SEQUENCE:0
DTSTAMP:20260422T134504Z
DTSTART:20260417T090000Z
DTEND:20260417T104000Z
SUMMARY:Публичное право Германии
LOCATION:16 к. 109
END:VEVENT
END:VCALENDAR