BEGIN:VCALENDAR
VERSION:2.0
PRODID:-//spbstu.ru//ical//RU
NAME:Расписание
X-WR-CALNAME:Расписание
TIMEZONE-ID:Europe/Moscow
X-WR-TIMEZONE:Europe/Moscow
BEGIN:VEVENT
UID:fywi@192.168.245.71:3006
SEQUENCE:0
DTSTAMP:20260422T193232Z
DTSTART:20260210T070000Z
DTEND:20260210T084000Z
SUMMARY:Практикум по программированию
LOCATION:16 к. 313
END:VEVENT
BEGIN:VEVENT
UID:vkg7@192.168.245.71:3006
SEQUENCE:0
DTSTAMP:20260422T193232Z
DTSTART:20260210T090000Z
DTEND:20260210T104000Z
SUMMARY:Практикум по программированию
LOCATION:16 к. 313
END:VEVENT
BEGIN:VEVENT
UID:al17@192.168.245.71:3006
SEQUENCE:0
DTSTAMP:20260422T193232Z
DTSTART:20260212T070000Z
DTEND:20260212T084000Z
SUMMARY:Практикум по программированию
LOCATION:16 к. 313
END:VEVENT
BEGIN:VEVENT
UID:meqo@192.168.245.71:3006
SEQUENCE:0
DTSTAMP:20260422T193232Z
DTSTART:20260212T090000Z
DTEND:20260212T104000Z
SUMMARY:Практикум по программированию
LOCATION:16 к. 313
END:VEVENT
BEGIN:VEVENT
UID:p8k1@192.168.245.71:3006
SEQUENCE:0
DTSTAMP:20260422T193232Z
DTSTART:20260212T110000Z
DTEND:20260212T124000Z
SUMMARY:Базы данных
LOCATION:16 к. 313
END:VEVENT
END:VCALENDAR