BEGIN:VCALENDAR
VERSION:2.0
PRODID:-//spbstu.ru//ical//RU
NAME:Расписание
X-WR-CALNAME:Расписание
TIMEZONE-ID:Europe/Moscow
X-WR-TIMEZONE:Europe/Moscow
BEGIN:VEVENT
UID:1mpv@192.168.245.71:3006
SEQUENCE:0
DTSTAMP:20260423T103614Z
DTSTART:20260209T070000Z
DTEND:20260209T084000Z
SUMMARY:Практикум по радиационной физике
LOCATION:2 к. 108
END:VEVENT
BEGIN:VEVENT
UID:0r8f@192.168.245.71:3006
SEQUENCE:0
DTSTAMP:20260423T103614Z
DTSTART:20260209T090000Z
DTEND:20260209T104000Z
SUMMARY:Практикум по радиационной физике
LOCATION:2 к. 108
END:VEVENT
BEGIN:VEVENT
UID:yb6x@192.168.245.71:3006
SEQUENCE:0
DTSTAMP:20260423T103614Z
DTSTART:20260209T110000Z
DTEND:20260209T124000Z
SUMMARY:Практикум по радиационной физике
LOCATION:2 к. 104
END:VEVENT
BEGIN:VEVENT
UID:merm@192.168.245.71:3006
SEQUENCE:0
DTSTAMP:20260423T103614Z
DTSTART:20260209T130000Z
DTEND:20260209T144000Z
SUMMARY:Практикум по радиационной физике
LOCATION:2 к. 104
END:VEVENT
BEGIN:VEVENT
UID:5w2k@192.168.245.71:3006
SEQUENCE:0
DTSTAMP:20260423T103614Z
DTSTART:20260213T090000Z
DTEND:20260213T104000Z
SUMMARY:Автоматические системы управления экспериментом
LOCATION:2 к. 104
END:VEVENT
BEGIN:VEVENT
UID:029o@192.168.245.71:3006
SEQUENCE:0
DTSTAMP:20260423T103614Z
DTSTART:20260213T110000Z
DTEND:20260213T115000Z
SUMMARY:Автоматические системы управления экспериментом
LOCATION:2 к. 117
END:VEVENT
END:VCALENDAR