BEGIN:VCALENDAR
VERSION:2.0
PRODID:-//spbstu.ru//ical//RU
NAME:Расписание
X-WR-CALNAME:Расписание
TIMEZONE-ID:Europe/Moscow
X-WR-TIMEZONE:Europe/Moscow
BEGIN:VEVENT
UID:ljai@192.168.245.71:3006
SEQUENCE:0
DTSTAMP:20260424T130833Z
DTSTART:20251027T090000Z
DTEND:20251027T104000Z
SUMMARY:Профессионально-ориентированный английский язык. Строительные маши
 ны и оборудование
LOCATION:ГК-2 513
END:VEVENT
BEGIN:VEVENT
UID:9z2i@192.168.245.71:3006
SEQUENCE:0
DTSTAMP:20260424T130833Z
DTSTART:20251028T090000Z
DTEND:20251028T104000Z
SUMMARY:Технологические процессы в строительстве
LOCATION:ГК-2 412
END:VEVENT
BEGIN:VEVENT
UID:rruj@192.168.245.71:3006
SEQUENCE:0
DTSTAMP:20260424T130833Z
DTSTART:20251029T090000Z
DTEND:20251029T104000Z
SUMMARY:Технологические процессы в строительстве
LOCATION:ГК-2 412
END:VEVENT
BEGIN:VEVENT
UID:esyb@192.168.245.71:3006
SEQUENCE:0
DTSTAMP:20260424T130833Z
DTSTART:20251029T110000Z
DTEND:20251029T124000Z
SUMMARY:Технологические процессы в строительстве
LOCATION:ГК-2 412
END:VEVENT
BEGIN:VEVENT
UID:in8p@192.168.245.71:3006
SEQUENCE:0
DTSTAMP:20260424T130833Z
DTSTART:20251029T153000Z
DTEND:20251029T171000Z
SUMMARY:Технология строительного производства
LOCATION:ГК-2 513
END:VEVENT
BEGIN:VEVENT
UID:8dk3@192.168.245.71:3006
SEQUENCE:0
DTSTAMP:20260424T130833Z
DTSTART:20251029T171500Z
DTEND:20251029T185500Z
SUMMARY:Профессионально-ориентированный английский язык. Строительные маши
 ны и оборудование
LOCATION:ГК-2 513
END:VEVENT
END:VCALENDAR