BEGIN:VCALENDAR
VERSION:2.0
PRODID:-//spbstu.ru//ical//RU
NAME:Расписание
X-WR-CALNAME:Расписание
TIMEZONE-ID:Europe/Moscow
X-WR-TIMEZONE:Europe/Moscow
BEGIN:VEVENT
UID:4eli@192.168.245.71:3006
SEQUENCE:0
DTSTAMP:20260422T042635Z
DTSTART:20260224T090000Z
DTEND:20260224T104000Z
SUMMARY:Технологические процессы в строительстве
LOCATION:ГК-2 405
END:VEVENT
BEGIN:VEVENT
UID:w5i3@192.168.245.71:3006
SEQUENCE:0
DTSTAMP:20260422T042635Z
DTSTART:20260227T090000Z
DTEND:20260227T104000Z
SUMMARY:Технологические процессы в строительстве
LOCATION:ГК-2 513
END:VEVENT
BEGIN:VEVENT
UID:5gst@192.168.245.71:3006
SEQUENCE:0
DTSTAMP:20260422T042635Z
DTSTART:20260227T110000Z
DTEND:20260227T124000Z
SUMMARY:Технологические процессы в строительстве
LOCATION:ГК-2 513
END:VEVENT
END:VCALENDAR