BEGIN:VCALENDAR
VERSION:2.0
PRODID:-//spbstu.ru//ical//RU
NAME:Расписание
X-WR-CALNAME:Расписание
TIMEZONE-ID:Europe/Moscow
X-WR-TIMEZONE:Europe/Moscow
BEGIN:VEVENT
UID:48lf@192.168.245.71:3006
SEQUENCE:0
DTSTAMP:20260421T180034Z
DTSTART:20260518T090000Z
DTEND:20260518T104000Z
SUMMARY:Технологические процессы в строительстве
LOCATION:ГК-2 507
END:VEVENT
BEGIN:VEVENT
UID:mqll@192.168.245.71:3006
SEQUENCE:0
DTSTAMP:20260421T180034Z
DTSTART:20260518T110000Z
DTEND:20260518T124000Z
SUMMARY:Технологические процессы в строительстве
LOCATION:ГК-2 507
END:VEVENT
END:VCALENDAR