BEGIN:VCALENDAR
VERSION:2.0
PRODID:-//spbstu.ru//ical//RU
NAME:Расписание
X-WR-CALNAME:Расписание
TIMEZONE-ID:Europe/Moscow
X-WR-TIMEZONE:Europe/Moscow
BEGIN:VEVENT
UID:gmvv@192.168.245.71:3006
SEQUENCE:0
DTSTAMP:20260421T035246Z
DTSTART:20260330T070000Z
DTEND:20260330T084000Z
SUMMARY:Верификация безопасности информационных систем
LOCATION:3 к. 309
END:VEVENT
BEGIN:VEVENT
UID:ytvm@192.168.245.71:3006
SEQUENCE:0
DTSTAMP:20260421T035246Z
DTSTART:20260330T090000Z
DTEND:20260330T104000Z
SUMMARY:Верификация безопасности информационных систем
LOCATION:3 к. 309
END:VEVENT
BEGIN:VEVENT
UID:8fat@192.168.245.71:3006
SEQUENCE:0
DTSTAMP:20260421T035246Z
DTSTART:20260331T090000Z
DTEND:20260331T104000Z
SUMMARY:Дискретная математика
LOCATION:ГЗ 175
END:VEVENT
BEGIN:VEVENT
UID:la6q@192.168.245.71:3006
SEQUENCE:0
DTSTAMP:20260421T035246Z
DTSTART:20260331T110000Z
DTEND:20260331T124000Z
SUMMARY:Дискретная математика
LOCATION:ГЗ 165
END:VEVENT
BEGIN:VEVENT
UID:teax@192.168.245.71:3006
SEQUENCE:0
DTSTAMP:20260421T035246Z
DTSTART:20260331T130000Z
DTEND:20260331T144000Z
SUMMARY:Дискретная математика
LOCATION:ГЗ 165
END:VEVENT
BEGIN:VEVENT
UID:p9yp@192.168.245.71:3006
SEQUENCE:0
DTSTAMP:20260421T035246Z
DTSTART:20260403T110000Z
DTEND:20260403T124000Z
SUMMARY:Дискретная математика
LOCATION:3 к. 211
END:VEVENT
END:VCALENDAR