BEGIN:VCALENDAR
VERSION:2.0
PRODID:-//spbstu.ru//ical//RU
NAME:Расписание
X-WR-CALNAME:Расписание
TIMEZONE-ID:Europe/Moscow
X-WR-TIMEZONE:Europe/Moscow
BEGIN:VEVENT
UID:2qp8@192.168.245.71:3006
SEQUENCE:0
DTSTAMP:20260422T073726Z
DTSTART:20260408T090000Z
DTEND:20260408T104000Z
SUMMARY:Семинар
LOCATION:2 к. каф. КИ
END:VEVENT
BEGIN:VEVENT
UID:vpie@192.168.245.71:3006
SEQUENCE:0
DTSTAMP:20260422T073726Z
DTSTART:20260408T130000Z
DTEND:20260408T133000Z
SUMMARY:Практикум по профилю специальности
LOCATION:2 к. каф. КИ
END:VEVENT
BEGIN:VEVENT
UID:kjby@192.168.245.71:3006
SEQUENCE:0
DTSTAMP:20260422T073726Z
DTSTART:20260408T133000Z
DTEND:20260408T140000Z
SUMMARY:Общая астрономия
LOCATION:2 к. каф. КИ
END:VEVENT
BEGIN:VEVENT
UID:cqyb@192.168.245.71:3006
SEQUENCE:0
DTSTAMP:20260422T073726Z
DTSTART:20260408T140000Z
DTEND:20260408T143000Z
SUMMARY:Детекторы космических частиц и излучений
LOCATION:2 к. каф. КИ
END:VEVENT
BEGIN:VEVENT
UID:3pj1@192.168.245.71:3006
SEQUENCE:0
DTSTAMP:20260422T073726Z
DTSTART:20260408T143000Z
DTEND:20260408T150000Z
SUMMARY:Научно-исследовательская работа
LOCATION:2 к. каф. КИ
END:VEVENT
BEGIN:VEVENT
UID:ptqv@192.168.245.71:3006
SEQUENCE:0
DTSTAMP:20260422T073726Z
DTSTART:20260408T150000Z
DTEND:20260408T153000Z
SUMMARY:Семинар
LOCATION:2 к. каф. КИ
END:VEVENT
BEGIN:VEVENT
UID:xk2q@192.168.245.71:3006
SEQUENCE:0
DTSTAMP:20260422T073726Z
DTSTART:20260409T110000Z
DTEND:20260409T124000Z
SUMMARY:Лабораторный практикум по космическим исследованиям
LOCATION:2 к. каф. КИ
END:VEVENT
BEGIN:VEVENT
UID:9qd3@192.168.245.71:3006
SEQUENCE:0
DTSTAMP:20260422T073726Z
DTSTART:20260409T130000Z
DTEND:20260409T144000Z
SUMMARY:Введение в профессиональную деятельность
LOCATION:ГЗ 212
END:VEVENT
END:VCALENDAR