BEGIN:VCALENDAR
VERSION:2.0
PRODID:-//spbstu.ru//ical//RU
NAME:Расписание
X-WR-CALNAME:Расписание
TIMEZONE-ID:Europe/Moscow
X-WR-TIMEZONE:Europe/Moscow
BEGIN:VEVENT
UID:x57q@192.168.245.71:3006
SEQUENCE:0
DTSTAMP:20260425T115329Z
DTSTART:20250911T070000Z
DTEND:20250911T084000Z
SUMMARY:История и методология науки
LOCATION:Хим. к. 15
END:VEVENT
END:VCALENDAR