BEGIN:VCALENDAR
VERSION:2.0
PRODID:-//spbstu.ru//ical//RU
NAME:Расписание
X-WR-CALNAME:Расписание
TIMEZONE-ID:Europe/Moscow
X-WR-TIMEZONE:Europe/Moscow
BEGIN:VEVENT
UID:o1ui@192.168.245.71:3006
SEQUENCE:0
DTSTAMP:20260422T175943Z
DTSTART:20260219T070000Z
DTEND:20260219T084000Z
SUMMARY:Сварочные материалы
LOCATION:Хим. к. 15
END:VEVENT
BEGIN:VEVENT
UID:9f5n@192.168.245.71:3006
SEQUENCE:0
DTSTAMP:20260422T175943Z
DTSTART:20260219T090000Z
DTEND:20260219T104000Z
SUMMARY:Сварочные материалы
LOCATION:Хим. к. 15
END:VEVENT
END:VCALENDAR