BEGIN:VCALENDAR
VERSION:2.0
PRODID:-//spbstu.ru//ical//RU
NAME:Расписание
X-WR-CALNAME:Расписание
TIMEZONE-ID:Europe/Moscow
X-WR-TIMEZONE:Europe/Moscow
BEGIN:VEVENT
UID:x9pn@192.168.245.71:3006
SEQUENCE:0
DTSTAMP:20260422T045531Z
DTSTART:20260319T070000Z
DTEND:20260319T084000Z
SUMMARY:Сварочные материалы
LOCATION:Хим. к. 15
END:VEVENT
BEGIN:VEVENT
UID:4ct1@192.168.245.71:3006
SEQUENCE:0
DTSTAMP:20260422T045531Z
DTSTART:20260319T090000Z
DTEND:20260319T104000Z
SUMMARY:Сварочные материалы
LOCATION:Хим. к. 15
END:VEVENT
END:VCALENDAR