BEGIN:VCALENDAR
VERSION:2.0
PRODID:-//spbstu.ru//ical//RU
NAME:Расписание
X-WR-CALNAME:Расписание
TIMEZONE-ID:Europe/Moscow
X-WR-TIMEZONE:Europe/Moscow
BEGIN:VEVENT
UID:7ubo@192.168.245.71:3006
SEQUENCE:0
DTSTAMP:20260422T224830Z
DTSTART:20260210T110000Z
DTEND:20260210T124000Z
SUMMARY:Основы государственной регламентации деятельности организации
LOCATION:50 уч.к 1233
END:VEVENT
BEGIN:VEVENT
UID:k7gn@192.168.245.71:3006
SEQUENCE:0
DTSTAMP:20260422T224830Z
DTSTART:20260212T110000Z
DTEND:20260212T124000Z
SUMMARY:Основы государственной регламентации деятельности организации
LOCATION:50 уч.к 1239
END:VEVENT
BEGIN:VEVENT
UID:vhys@192.168.245.71:3006
SEQUENCE:0
DTSTAMP:20260422T224830Z
DTSTART:20260213T070000Z
DTEND:20260213T084000Z
SUMMARY:Основы государственной регламентации деятельности организации
LOCATION:50 уч.к 1326
END:VEVENT
END:VCALENDAR