BEGIN:VCALENDAR
VERSION:2.0
PRODID:-//spbstu.ru//ical//RU
NAME:Расписание
X-WR-CALNAME:Расписание
TIMEZONE-ID:Europe/Moscow
X-WR-TIMEZONE:Europe/Moscow
BEGIN:VEVENT
UID:oxgh@192.168.245.71:3006
SEQUENCE:0
DTSTAMP:20260423T191323Z
DTSTART:20251103T130000Z
DTEND:20251103T144000Z
SUMMARY:Проектирование микроэлектронных частотно-избирательных устройств
LOCATION:2 к. 458
END:VEVENT
BEGIN:VEVENT
UID:lkh3@192.168.245.71:3006
SEQUENCE:0
DTSTAMP:20260423T191323Z
DTSTART:20251105T130000Z
DTEND:20251105T144000Z
SUMMARY:Основы построения устройств приема и обработки сигналов
LOCATION:2 к. 470
END:VEVENT
BEGIN:VEVENT
UID:xkxn@192.168.245.71:3006
SEQUENCE:0
DTSTAMP:20260423T191323Z
DTSTART:20251107T130000Z
DTEND:20251107T144000Z
SUMMARY:Проектирование микроэлектронных частотно-избирательных устройств
LOCATION:2 к. 458
END:VEVENT
END:VCALENDAR